BEGIN:VCALENDAR
VERSION:2.0
PRODID:-//Schwarze Jäger 1799 e.V. - ECPv6.15.20//NONSGML v1.0//EN
CALSCALE:GREGORIAN
METHOD:PUBLISH
X-WR-CALNAME:Schwarze Jäger 1799 e.V.
X-ORIGINAL-URL:https://schwarze-jaeger.de
X-WR-CALDESC:Veranstaltungen für Schwarze Jäger 1799 e.V.
REFRESH-INTERVAL;VALUE=DURATION:PT1H
X-Robots-Tag:noindex
X-PUBLISHED-TTL:PT1H
BEGIN:VTIMEZONE
TZID:Europe/Berlin
BEGIN:DAYLIGHT
TZOFFSETFROM:+0100
TZOFFSETTO:+0200
TZNAME:CEST
DTSTART:20250330T010000
END:DAYLIGHT
BEGIN:STANDARD
TZOFFSETFROM:+0200
TZOFFSETTO:+0100
TZNAME:CET
DTSTART:20251026T010000
END:STANDARD
BEGIN:DAYLIGHT
TZOFFSETFROM:+0100
TZOFFSETTO:+0200
TZNAME:CEST
DTSTART:20260329T010000
END:DAYLIGHT
BEGIN:STANDARD
TZOFFSETFROM:+0200
TZOFFSETTO:+0100
TZNAME:CET
DTSTART:20261025T010000
END:STANDARD
BEGIN:DAYLIGHT
TZOFFSETFROM:+0100
TZOFFSETTO:+0200
TZNAME:CEST
DTSTART:20270328T010000
END:DAYLIGHT
BEGIN:STANDARD
TZOFFSETFROM:+0200
TZOFFSETTO:+0100
TZNAME:CET
DTSTART:20271031T010000
END:STANDARD
END:VTIMEZONE
BEGIN:VEVENT
DTSTART;TZID=Europe/Berlin:20260726T113000
DTEND;TZID=Europe/Berlin:20260726T220000
DTSTAMP:20260420T113153
CREATED:20260411T083631Z
LAST-MODIFIED:20260411T083632Z
UID:806-1785065400-1785103200@schwarze-jaeger.de
SUMMARY:18. Klang- und Schönheitsconcurrenz
DESCRIPTION:Mehr als 25 Jahre Tradition: Die Kanoniere und Böllerschützen der Schwarzen Jäger 1799 e.V. Erligheim laden herzlich zur 18. Auflage ihrer Klang- und Schönheitsconcurrenz ein! \n\n\n\nAm Sonntag\, 26. Juli 2026 treffen sich Böllerschützen und Kanoniere aus nah und fern auf dem Festgelände am Sportplatz in Erligheim. Ab 11:30 Uhr wird gemeinsam zu Mittag gegessen. Um 13:00 Uhr folgt die Besprechung des Ablaufs mit allen Schützen. Um 13:30 Uhr beginnt die Concurrenz mit den Wertungsschüssen. Ab ca. 15:00 Uhr folgt das gemeinsame Böllern: Salut aller Teilnehmer\, Reihenfeuer in verschiedenen Formationen\, Flächenbrand und ein großer Abschlusssalut. Danach werden die Plätze 1 bis 3 in der Siegerehrung ausgezeichnet. \n\n\n\nTeilnehmen können Vereine und Gruppen mit gültig beschossenen Hand-\, Schaft- und Standböllern sowie Kanonen. Die Anmeldung ist bis 1. Juli 2026 möglich per E-Mail an: Schwarze-Jaeger-Klang-und-Schoenheit@gmx.de \n\n\n\nImpressionen von 2025\n\n\n					\n											\n											\n							\n				\n					\n					\n					\n				\n				\n											\n											\n					No Caption				\n										\n									\n						\n						\n							\n				\n					\n					\n					\n				\n				\n											\n											\n					No Caption				\n										\n									\n						\n						\n							\n				\n					\n					\n					\n				\n				\n											\n											\n					No Caption				\n										\n									\n						\n										\n																		\n											\n											\n					\n													\n							\n								\n								\n															\n													\n							\n								\n								\n															\n													\n							\n								\n								\n															\n											\n					\n					\n							\n																																\n													\n												\n													\n									\n\n\nDownloads\n\n\n\n\n\n\n\n\n\nFlyerHerunterladen\n\n\n\n\n\n\n\n\n\nBöllerprogrammHerunterladen\n\n\n\n\n\n\n\n\n\nAnmeldungHerunterladen
URL:https://schwarze-jaeger.de/event/18-klang-und-schoenheitsconcurrenz/
LOCATION:Festgelände am Sportplatz\, 24C3+CV\, Erligheim\, Deutschland
CATEGORIES:Öffentlich
ATTACH;FMTTYPE=image/jpeg:https://schwarze-jaeger.de/wp-content/uploads/2026/04/klang-und-schoenheitsconcurrenz-2025-foto-2.jpg
END:VEVENT
END:VCALENDAR