BEGIN:VCALENDAR
VERSION:2.0
PRODID:-//Schwarze Jäger 1799 e.V. - ECPv6.15.20//NONSGML v1.0//EN
CALSCALE:GREGORIAN
METHOD:PUBLISH
X-WR-CALNAME:Schwarze Jäger 1799 e.V.
X-ORIGINAL-URL:https://schwarze-jaeger.de
X-WR-CALDESC:Veranstaltungen für Schwarze Jäger 1799 e.V.
REFRESH-INTERVAL;VALUE=DURATION:PT1H
X-Robots-Tag:noindex
X-PUBLISHED-TTL:PT1H
BEGIN:VTIMEZONE
TZID:Europe/Berlin
BEGIN:DAYLIGHT
TZOFFSETFROM:+0100
TZOFFSETTO:+0200
TZNAME:CEST
DTSTART:20240331T010000
END:DAYLIGHT
BEGIN:STANDARD
TZOFFSETFROM:+0200
TZOFFSETTO:+0100
TZNAME:CET
DTSTART:20241027T010000
END:STANDARD
BEGIN:DAYLIGHT
TZOFFSETFROM:+0100
TZOFFSETTO:+0200
TZNAME:CEST
DTSTART:20250330T010000
END:DAYLIGHT
BEGIN:STANDARD
TZOFFSETFROM:+0200
TZOFFSETTO:+0100
TZNAME:CET
DTSTART:20251026T010000
END:STANDARD
BEGIN:DAYLIGHT
TZOFFSETFROM:+0100
TZOFFSETTO:+0200
TZNAME:CEST
DTSTART:20260329T010000
END:DAYLIGHT
BEGIN:STANDARD
TZOFFSETFROM:+0200
TZOFFSETTO:+0100
TZNAME:CET
DTSTART:20261025T010000
END:STANDARD
END:VTIMEZONE
BEGIN:VEVENT
DTSTART;TZID=Europe/Berlin:20251103T180000
DTEND;TZID=Europe/Berlin:20251103T210000
DTSTAMP:20260420T131716
CREATED:20251016T175835Z
LAST-MODIFIED:20260214T094846Z
UID:489-1762192800-1762203600@schwarze-jaeger.de
SUMMARY:Laternenumzug durch Erligheim
DESCRIPTION:Die Schwarzen Jäger Erligheim 1799 e.V. laden herzlich zum traditionellen Laternenumzug ein!Kommt mit euren bunten Laternen und begleitet uns auf unserem stimmungsvollen Spaziergang durch Erligheim. \nWir freuen uns auf viele leuchtende Laternen\, fröhliche Gesichter und einen gemütlichen Abend mit euch!
URL:https://schwarze-jaeger.de/event/laternenumzug-durch-erligheim/
LOCATION:Rathaus Erligheim\, Rathausstraße 7\, Erligheim\, 74391\, Germany
CATEGORIES:Öffentlich
ATTACH;FMTTYPE=image/jpeg:https://schwarze-jaeger.de/wp-content/uploads/2025/10/Laternenumzug2023.jpeg
END:VEVENT
END:VCALENDAR