BEGIN:VCALENDAR
VERSION:2.0
PRODID:-//Schwarze Jäger 1799 e.V. - ECPv6.15.20//NONSGML v1.0//EN
CALSCALE:GREGORIAN
METHOD:PUBLISH
X-WR-CALNAME:Schwarze Jäger 1799 e.V.
X-ORIGINAL-URL:https://schwarze-jaeger.de
X-WR-CALDESC:Veranstaltungen für Schwarze Jäger 1799 e.V.
REFRESH-INTERVAL;VALUE=DURATION:PT1H
X-Robots-Tag:noindex
X-PUBLISHED-TTL:PT1H
BEGIN:VTIMEZONE
TZID:Europe/Berlin
BEGIN:DAYLIGHT
TZOFFSETFROM:+0100
TZOFFSETTO:+0200
TZNAME:CEST
DTSTART:20250330T010000
END:DAYLIGHT
BEGIN:STANDARD
TZOFFSETFROM:+0200
TZOFFSETTO:+0100
TZNAME:CET
DTSTART:20251026T010000
END:STANDARD
BEGIN:DAYLIGHT
TZOFFSETFROM:+0100
TZOFFSETTO:+0200
TZNAME:CEST
DTSTART:20260329T010000
END:DAYLIGHT
BEGIN:STANDARD
TZOFFSETFROM:+0200
TZOFFSETTO:+0100
TZNAME:CET
DTSTART:20261025T010000
END:STANDARD
BEGIN:DAYLIGHT
TZOFFSETFROM:+0100
TZOFFSETTO:+0200
TZNAME:CEST
DTSTART:20270328T010000
END:DAYLIGHT
BEGIN:STANDARD
TZOFFSETFROM:+0200
TZOFFSETTO:+0100
TZNAME:CET
DTSTART:20271031T010000
END:STANDARD
END:VTIMEZONE
BEGIN:VEVENT
DTSTART;TZID=Europe/Berlin:20260907T120000
DTEND;TZID=Europe/Berlin:20260907T150000
DTSTAMP:20260420T131747
CREATED:20260411T090009Z
LAST-MODIFIED:20260411T090010Z
UID:821-1788782400-1788793200@schwarze-jaeger.de
SUMMARY:Bietigheimer Pferdemarkt — Umzug
DESCRIPTION:Die Schwarzen Jäger 1799 e.V. nehmen auch in diesem Jahr am traditionellen Umzug beim Bietigheimer Pferdemarkt teil. \n\n\n\nAm 7. September 2026 marschiert der Verein wieder in historischer Tracht durch die Bietigheimer Innenstadt. Zuschauer sind herzlich willkommen!
URL:https://schwarze-jaeger.de/event/bietigheimer-pferdemarkt-umzug/
LOCATION:Talstraße Bietigheim\, Talstraße\, Bietigheim-Bissingen
CATEGORIES:Öffentlich
ATTACH;FMTTYPE=image/jpeg:https://schwarze-jaeger.de/wp-content/uploads/2026/04/pferdemarkt-umzug-2025-hero.jpg
END:VEVENT
END:VCALENDAR