BEGIN:VCALENDAR
VERSION:2.0
PRODID:-//Schwarze Jäger 1799 e.V. - ECPv6.15.20//NONSGML v1.0//EN
CALSCALE:GREGORIAN
METHOD:PUBLISH
X-ORIGINAL-URL:https://schwarze-jaeger.de
X-WR-CALDESC:Veranstaltungen für Schwarze Jäger 1799 e.V.
REFRESH-INTERVAL;VALUE=DURATION:PT1H
X-Robots-Tag:noindex
X-PUBLISHED-TTL:PT1H
BEGIN:VTIMEZONE
TZID:Europe/Berlin
BEGIN:DAYLIGHT
TZOFFSETFROM:+0100
TZOFFSETTO:+0200
TZNAME:CEST
DTSTART:20250330T010000
END:DAYLIGHT
BEGIN:STANDARD
TZOFFSETFROM:+0200
TZOFFSETTO:+0100
TZNAME:CET
DTSTART:20251026T010000
END:STANDARD
BEGIN:DAYLIGHT
TZOFFSETFROM:+0100
TZOFFSETTO:+0200
TZNAME:CEST
DTSTART:20260329T010000
END:DAYLIGHT
BEGIN:STANDARD
TZOFFSETFROM:+0200
TZOFFSETTO:+0100
TZNAME:CET
DTSTART:20261025T010000
END:STANDARD
BEGIN:DAYLIGHT
TZOFFSETFROM:+0100
TZOFFSETTO:+0200
TZNAME:CEST
DTSTART:20270328T010000
END:DAYLIGHT
BEGIN:STANDARD
TZOFFSETFROM:+0200
TZOFFSETTO:+0100
TZNAME:CET
DTSTART:20271031T010000
END:STANDARD
END:VTIMEZONE
BEGIN:VEVENT
DTSTART;TZID=Europe/Berlin:20261213T180000
DTEND;TZID=Europe/Berlin:20261213T200000
DTSTAMP:20260420T182625
CREATED:20260411T090008Z
LAST-MODIFIED:20260411T090009Z
UID:825-1797184800-1797192000@schwarze-jaeger.de
SUMMARY:Adventsfeier
DESCRIPTION:Gemütlicher Ausklang des Jahres — die Adventsfeier der Schwarzen Jäger 1799 e.V. \n\n\n\nAm 3. Advent\, dem 13. Dezember 2026\, laden die Schwarzen Jäger zur Adventsfeier am Lager beim Rathaus ein. Bei weihnachtlicher Stimmung und geselligem Beisammensein lassen wir das Jahr gemeinsam ausklingen.
URL:https://schwarze-jaeger.de/event/adventsfeier/
LOCATION:Am Lager beim Rathaus\, Kelterstr. 6\, Erligheim\, 74391\, Germany
CATEGORIES:Öffentlich
ATTACH;FMTTYPE=image/jpeg:https://schwarze-jaeger.de/wp-content/uploads/2025/10/adventsfenster.jpeg
END:VEVENT
END:VCALENDAR